

BEGIN:VCALENDAR
VERSION:2.0
PRODID:-//hacksw/handcal//NONSGML v1.0//EN
CALSCALE:GREGORIAN
BEGIN:VEVENT
DTEND:20200408T140000
UID:69e7585f095a1
DTSTAMP:20260421T205839
LOCATION:ZOOM ZOOM Melbourne 3000 VIC
DESCRIPTION:Meeting of Wednesday\, 8 April will again be a Zoom meeting chaired by PE Marion Macleod\, member D9800 Bushfire&nbsp\;Response Committee
Additional panellists: Jim Orchard (D9800)\, Bob Glindemann (DIK) and&nbsp\;DGE D9820 Mark Humphries will lead the exploration and latest updates on Bushfire Recover and Rotary
&nbsp\;
Email office@rotaryclubofmelbourne.org.au for details
URL;VALUE=URI:http://rotaryclubofmelbourne.org.au/event/41326
SUMMARY:Bushfire Recovery - Rotary's response to the other tragedy of 2020 - ONLINE ONLY
DTSTART:20200408T130000
END:VEVENT
END:VCALENDAR

