

BEGIN:VCALENDAR
VERSION:2.0
PRODID:-//hacksw/handcal//NONSGML v1.0//EN
CALSCALE:GREGORIAN
BEGIN:VEVENT
DTEND:20201021T140000
UID:69e750e0a45e3
DTSTAMP:20260421T202640
LOCATION:  Melbourne 3000 VIC
DESCRIPTION:
URL;VALUE=URI:http://rotaryclubofmelbourne.org.au/event/41847
SUMMARY:The US Election and Australia - ONLINE ONLY
DTSTART:20201021T130000
END:VEVENT
END:VCALENDAR

