

BEGIN:VCALENDAR
VERSION:2.0
PRODID:-//hacksw/handcal//NONSGML v1.0//EN
CALSCALE:GREGORIAN
BEGIN:VEVENT
DTEND:20201230T140000
UID:69e74f5a4e38f
DTSTAMP:20260421T202010
LOCATION:  Melbourne 3000 VIC
DESCRIPTION:
URL;VALUE=URI:http://rotaryclubofmelbourne.org.au/event/42871
SUMMARY:No Meeting - ONLINE ONLY
DTSTART:20201230T130000
END:VEVENT
END:VCALENDAR

