

BEGIN:VCALENDAR
VERSION:2.0
PRODID:-//hacksw/handcal//NONSGML v1.0//EN
CALSCALE:GREGORIAN
BEGIN:VEVENT
DTEND:20221023T160000
UID:69e73b517fd1d
DTSTAMP:20260421T185441
LOCATION:Prahran Market 163 Commercial Road South Yarra 3141 VIC
DESCRIPTION:Our volunteers meet at Prahran Market each Sunday at 2.45pm just before the market close and visit the stall holders. We collect their donations of fruit and vegetables as well as bread and often other goods.
If you are interested in being involved\, contact us here.
URL;VALUE=URI:http://rotaryclubofmelbourne.org.au/event/49364
SUMMARY:Secondbite Volunteering
DTSTART:20221023T144500
END:VEVENT
END:VCALENDAR

