

BEGIN:VCALENDAR
VERSION:2.0
PRODID:-//hacksw/handcal//NONSGML v1.0//EN
CALSCALE:GREGORIAN
BEGIN:VEVENT
DTEND:20251005T123000
UID:69e73ab288178
DTSTAMP:20260421T185202
LOCATION:Elsternwick Park Head Street Brighton 3186 VIC
DESCRIPTION:
URL;VALUE=URI:http://rotaryclubofmelbourne.org.au/event/64474
SUMMARY:Paws for Polio Walk
DTSTART:20251005T100000
END:VEVENT
END:VCALENDAR

