

BEGIN:VCALENDAR
VERSION:2.0
PRODID:-//hacksw/handcal//NONSGML v1.0//EN
CALSCALE:GREGORIAN
BEGIN:VEVENT
DTEND:20251026T170000
UID:69e73c4a045d1
DTSTAMP:20260421T185850
LOCATION:The Sun Theatre  8 Ballarat Street Yarraville 3000 VIC
DESCRIPTION:
URL;VALUE=URI:http://rotaryclubofmelbourne.org.au/event/64719
SUMMARY:Movie Fundraiser 
DTSTART:20251026T140000
END:VEVENT
END:VCALENDAR

